BEGIN:VCALENDAR
VERSION:2.0
PRODID:-//wp-events-plugin.com//7.2.3.1//EN
BEGIN:VEVENT
UID:222@eurobak.kz
DTSTART:20250910T100000Z
DTEND:20250910T120000Z
DTSTAMP:20250827T145616Z
URL:https://eurobak.kz/events/youre-invited-a-vip-dialogue-on-digital-tran
 sformation-trends-in-central-asia/
SUMMARY:You’re Invited: A VIP Dialogue on Digital Transformation Trends i
 n Central Asia
DESCRIPTION:\n\n&nbsp\;\n\nDear\,\n\nYou’re invited to an exclusive execu
 tive dialogue hosted by GITEX—the world’s most trusted tech ecosystem
 —alongside EUROBAK and American Chambers of Commerce (AmChams) Kazakhst
 an.\n\n&nbsp\;\n\nAs Kazakhstan prepares to host GITEX CENTRAL ASIA &amp\;
  CAUCASUS x Ai Everything Kazakhstan in June 2026\, this closed-door sessi
 on offers a strategic preview of the trends\, partnerships\, and tech shif
 ts defining the region’s digital future.\n\n&nbsp\;\n\n📍 InterContine
 ntal Almaty\n\n📅 Tuesday\, 10 September\n\n🕒 3:00–5:00 PM\n\n&nbsp
 \;\n\nJoin fellow industry leaders\, chambers of commerce\, and government
  officials for insights and informal networking over drinks.\n\n&nbsp\;\n\
 nWHAT YOU’LL DISCOVER:\n\n 	Central Asia’s digital rise: momentum\, ma
 rkets\, and strategy\n 	AI and cloud as new growth infrastructure\n 	2026 
 tech outlook + GITEX Central Asia &amp\; Caucasus preview\n\n&nbsp\;\n\nFE
 ATURED SPEAKERS:\n\n 	Senior executive from Noventiq – global IT integra
 tor and partner of Microsoft\, Dell\, Cisco\, and NVIDIA\n 	Rupert Adam\, 
 Commercial Director\, GITEX\n 	Leaders from EUROBAK and AmCham Kazakhstan\
 n\n&nbsp\;\n\n🔔 Space is limited – please confirm your attendance bel
 ow.\n\n&nbsp\;\n\nRSVP NOW\n\n \n\nWe look forward to welcoming you.\n\n&
 nbsp\;\n\nWarm regards\,\n\nGITEX CENTRAL ASIA &amp\; CAUCASUS\n\n\nJoin t
 he Tech Community Powering Central Asia’s Digital Future.
CATEGORIES:Non-EUROBAK event
END:VEVENT
END:VCALENDAR