BEGIN:VCALENDAR
VERSION:2.0
PRODID:-//wp-events-plugin.com//7.2.3.1//EN
BEGIN:VEVENT
UID:96@eurobak.kz
DTSTART:20240430T060000Z
DTEND:20240430T070000Z
DTSTAMP:20240425T091554Z
URL:https://eurobak.kz/events/working-meeting-to-discuss-interaction-with-
 the-ministry-of-water-resources-and-irrigation/
SUMMARY:Working meeting to discuss interaction with the Ministry of Water R
 esources and Irrigation
DESCRIPTION:
CATEGORIES:Committies
END:VEVENT
END:VCALENDAR