BEGIN:VCALENDAR
VERSION:2.0
PRODID:-//wp-events-plugin.com//7.2.3.1//EN
BEGIN:VEVENT
UID:160@eurobak.kz
DTSTART:20250214T060000Z
DTEND:20250214T070000Z
DTSTAMP:20250213T102739Z
URL:https://eurobak.kz/events/working-meeting-of-the-infrastructure-logist
 ics-and-property-development-committee/
SUMMARY:Working meeting of the Infrastructure\, Logistics\, and Property De
 velopment Committee
DESCRIPTION:Dear EUROBAK  Members\,\n\nWe are pleased to invite you to the
  upcoming working meeting of the Infrastructure\, Logistics\, and Property
  Development Committee.\n\nDuring the meeting\, we will refine the action 
 plan by incorporating additional details and discuss the next steps to ens
 ure a comprehensive and strategic approach to the Committee work.\n\nDate:
  14 February\nTime: 11:00-12:00\nFormat: Online\nLanguage: Russian\n\n&
 nbsp\;\n\nWe highly appreciate your participation and valuable contributio
 ns. Please confirm your availability at your earliest convenience.\n\n&nbs
 p\;\n\nTo confirm your participation\, please complete the online registra
 tion by 13 February.\n\n&nbsp\;\n\n*** *** ***\n\nУважаемые пр
 едставители компаний\, входящих в ЕВРОБА
 К\,\n\nМы рады пригласить вас на предстоящ
 ее рабочее заседание Комитета по инфрас
 труктуре\, логистике и развитию недвижим
 ости.\n\nВ ходе встречи мы доработаем план
  действий\, дополнив его дополнительными
  деталями\, и обсудим следующие шаги для 
 обеспечения комплексного и стратегичес
 кого подхода к работе Комитета.\n\nДата: 14
  февраля\nВремя: 11:00-12:00\nФормат: Онлайн\nЯ
 зык: Русский\n\nБудем благодарны за ваше 
 участие и ценные комментарии. Просим под
 твердить ваше участие в ближайшее время.
 \n\n&nbsp\;\n\nДля подтверждения участия\, пожа
 луйста\, пройдите онлайн-регистрацию до 
 13 февраля.
CATEGORIES:Committies
END:VEVENT
END:VCALENDAR