BEGIN:VCALENDAR
VERSION:2.0
PRODID:-//wp-events-plugin.com//7.2.3.1//EN
BEGIN:VEVENT
UID:95@eurobak.kz
DTSTART:20240429T050000Z
DTEND:20240429T060000Z
DTSTAMP:20240425T090947Z
URL:https://eurobak.kz/events/working-meeting-of-the-health-committee/
SUMMARY:Working meeting of the Health Committee
DESCRIPTION:
CATEGORIES:Committies
END:VEVENT
END:VCALENDAR