BEGIN:VCALENDAR
VERSION:2.0
PRODID:-//wp-events-plugin.com//7.2.3.1//EN
BEGIN:VEVENT
UID:159@eurobak.kz
DTSTART:20250218T090000Z
DTEND:20250218T100000Z
DTSTAMP:20250210T103515Z
URL:https://eurobak.kz/events/working-meeting-of-the-fmcg-committee/
SUMMARY:working meeting of the FMCG Committee
DESCRIPTION:Dear EUROBAK  Members\,\n\nWe are pleased to invite you to the
  upcoming working meeting of the FMCG Committee.\n\nDuring the meeting\, w
 e will update the 2025 action plan and discuss a critical issue raised by 
 one of the EUROBAK Member companies regarding the rules on the withdrawal 
 of new products. Specifically\, we will review the following recent legisl
 ative changes:\n\nThe latest amendments to the Code "On Health and the Hea
 lth Care System" of Kazakhstan\, which entered into force on 6 April 2024\
 , introduce a new Article 42-1 entitled "Operational Response Measures and
  Their Application in Epidemiological Well-Being." Under these amendments\
 , the epidemiological authorities (EEC) may require the withdrawal of prod
 ucts that do not comply with technical regulations or sanitary and hygieni
 c standards of the Eurasian Economic Union (EAEU).\n\nDate: 18 February\n
 Time: 14:00-15:00\nFormat: Online\nLanguage: Russian\n\n&nbsp\;\n\nWe hi
 ghly appreciate your participation and valuable contributions. Please conf
 irm your availability at your earliest convenience.\n\n&nbsp\;\n\nTo confi
 rm your participation\, please complete the online registration by 17 Feb
 ruary.\n\n&nbsp\;\n\n*** *** ***\n\nУважаемые представи
 тели компаний\, входящих в ЕВРОБАК\,\n\nРад
 ы пригласить вас на рабочую встречу Коми
 тета FMCG.\n\nВ ходе встречи мы обновим план 
 действий на 2025 год и обсудим важный вопр
 ос\, поднятый одной из компаний входящих 
 в Ассоциацию\, касающийся правил изъятия
  новых продуктов. В частности\, будет рас
 смотрено следующее недавнее законодате
 льное изменение:\n\nПоследние поправки в 
 Кодекс Республики Казахстан «О здоровье
  народа и системе здравоохранения»\, вст
 упившие в силу 6 апреля 2024 года\, вводят н
 овую статью 42-1 под названием «Меры опера
 тивного реагирования и их применение в о
 беспечении эпидемиологического благопо
 лучия». В соответствии с этими поправкам
 и эпидемиологические органы (ЕЭК) могут 
 требовать изъятия продукции\, не соответ
 ствующей техническим регламентам или са
 нитарно-гигиеническим нормам Евразийск
 ого экономического союза (ЕАЭС).\n\nДата: 1
 8 февраля\nВремя: 14:00-15:00\nФормат: Онлайн\n
 Язык: Русский\n\nБудем благодарны за ваше
  участие и ценные комментарии. Просим по
 дтвердить ваше участие в ближайшее врем
 я.\n\n&nbsp\;\n\nДля подтверждения участия\, по
 жалуйста\, пройдите онлайн-регистрацию 
 до 17 февраля.\n\n&nbsp\;
CATEGORIES:Committies
END:VEVENT
END:VCALENDAR