BEGIN:VCALENDAR
VERSION:2.0
PRODID:-//wp-events-plugin.com//7.2.3.1//EN
BEGIN:VEVENT
UID:99@eurobak.kz
DTSTART:20240517T090000Z
DTEND:20240517T100000Z
DTSTAMP:20240513T034742Z
URL:https://eurobak.kz/events/working-meeting-of-the-esg-committee-on-lice
 nsing-export-reimport-of-specific-goods-and-customs-issues/
SUMMARY:Working meeting of the ESG Committee on licensing\, export\, (re)im
 port of specific goods and customs issues
DESCRIPTION:
CATEGORIES:Committies
END:VEVENT
END:VCALENDAR