BEGIN:VCALENDAR
VERSION:2.0
PRODID:-//wp-events-plugin.com//7.2.3.1//EN
BEGIN:VEVENT
UID:130@eurobak.kz
DTSTART:20241003T060000Z
DTEND:20241003T070000Z
DTSTAMP:20240926T081435Z
URL:https://eurobak.kz/events/webinar-within-the-tax-committee-dedicated-t
 o-the-topic-mli-its-effect-on-wht-key-aspects-and-practical-application/
SUMMARY:webinar within the Tax Committee\, dedicated to the topic « MLI: i
 ts effect on WHT\, key aspects and practical application»
DESCRIPTION:Dear EUROBAK Members\,\n\n&nbsp\;\n\nWe would like to invite yo
 u to join a webinar within the Tax Committee\, dedicated to the topic « M
 LI: its effect on WHT\, key aspects and practical application».\n\n \n\n
 Speaker:\n\n&nbsp\;\n\nSabina Baizhanova – EY\, Manager\, International 
 Tax Services\n\n&nbsp\;\n\nDate: 3 October (Thursday)\, 2024\n\nTime: 11.0
 0-12.00\n\nFormat:  Online\, Zoom\n\nLanguage: Russian\n\n&nbsp\;\n\nTo c
 onfirm your participation\, please proceed with online registration no lat
 er than October 2.\n\n&nbsp\;\n\n**** **** ****\n\n&nbsp\;\n\nУважае
 мые представители компаний\, входящих в 
 ЕВРОБАК\,\n\n&nbsp\;\n\nПриглашаем Вас принять 
 участие в вебинаре в рамках Налогового К
 омитета по теме «MLI: влияние на КПНуИВ\, о
 сновные аспекты и практическое применен
 ие»\n\n&nbsp\;\n\nСпикер:\n\n&nbsp\;\n\nСабина Байжан
 ова\, Менеджер EY по международному налог
 ообложению\n\n \n\nДата: 3 октября (четверг)\
 , 2024г\n\nВремя: 11.00-12.00\n\nФормат: Онлайн\, Zoom\n
 \nЯзык: Русский\n\n&nbsp\;\n\nДля подтверждения
  участия\, пожалуйста\, пройдите онлайн р
 егистрацию\, не позднее 2 октября.
CATEGORIES:Committies
END:VEVENT
END:VCALENDAR