BEGIN:VCALENDAR
VERSION:2.0
PRODID:-//wp-events-plugin.com//7.2.3.1//EN
BEGIN:VEVENT
UID:136@eurobak.kz
DTSTART:20241106T060000Z
DTEND:20241106T070000Z
DTSTAMP:20241104T033213Z
URL:https://eurobak.kz/events/webinar-within-the-tax-committee-dedicated-t
 o-the-topic-current-practice-of-vat-refunds-from-the-budget/
SUMMARY:webinar within the Tax Committee\, dedicated to the topic «Current
  Practice of VAT Refunds from the Budget»
DESCRIPTION:Dear EUROBAK Members\,\n\n&nbsp\;\n\nWe would like to invite yo
 u to join a webinar within the Tax Committee\, dedicated to the topic «Cu
 rrent Practice of VAT Refunds from the Budget».\n\n \n\nSpeakers:\n\n&nb
 sp\;\n\n 	Kanat Adilbekov\, Partner\, GRATA International\n 	Lolita Zakiro
 va\, CEO of Axisa\, and Сo-chairperson of EUROBAK Tax Committee\n\n&nbsp\
 ;\n\nDate: 6 November (Wednesday)\, 2024\n\nTime: 11.00-12.00\n\nFormat: 
  Online\, Zoom\n\nLanguage: Russian\n\n&nbsp\;\n\nTo confirm your particip
 ation\, please proceed with online registration no later than 5 November.\
 n\n&nbsp\;\n\n**** **** ****\n\n&nbsp\;\n\nУважаемые предст
 авители компаний\, входящих в ЕВРОБАК\,\n\n
 &nbsp\;\n\nПриглашаем Вас принять участие в в
 ебинаре в рамках Налогового Комитета по 
 теме «Текущая практика возврата НДС из б
 юджета».\n\n&nbsp\;\n\nСпикеры:\n\n&nbsp\;\n\n 	Канат 
 Адилбеков\, Партнер\, GRATA International\n 	Лолита 
 Закирова\, Учредитель/Директор Axisa\, Со-пр
 едседатель Налогового Комитета ЕВРОБАК.
 \n\n&nbsp\;\n\nДата: 6 ноября (среда)\, 2024г\n\nВрем
 я: 11.00-12.00\n\nФормат: Онлайн\, Zoom\n\nЯзык: Русс
 кий\n\n&nbsp\;\n\nДля подтверждения участия\, п
 ожалуйста\, пройдите онлайн регистрацию\
 , не позднее 5 ноября.
CATEGORIES:Committies
END:VEVENT
END:VCALENDAR