BEGIN:VCALENDAR
VERSION:2.0
PRODID:-//wp-events-plugin.com//7.2.3.1//EN
BEGIN:VEVENT
UID:137@eurobak.kz
DTSTART:20241108T060000Z
DTEND:20241108T070000Z
DTSTAMP:20241108T031033Z
URL:https://eurobak.kz/events/webinar-within-the-hr-committee-dedicated-to
 -the-topic-how-to-stay-compliant-when-hiring-foreign-talent-in-kazakhstan/
SUMMARY:webinar within the HR Committee\, dedicated to the topic «How to S
 tay Compliant When Hiring Foreign Talent in Kazakhstan»
DESCRIPTION:Dear EUROBAK Members\,\n\nWe would like to invite you to join a
  webinar within the HR Committee\, dedicated to the topic «How to Stay Co
 mpliant When Hiring Foreign Talent in Kazakhstan».\n\n&nbsp\;\n\nSpeaker:
 \n\nAnel Saulen\, Head of WPK Almaty office.\n\nDate: 8 November (Friday)\
 , 2024\n\nTime: 11.00-12.00\n\nFormat:  Online\, Zoom\n\nLanguage: Russis
 an\n\n&nbsp\;\n\nTo confirm your participation\, please proceed with onlin
 e registration no later than 7 November.\n\n&nbsp\;\n\n**** **** ****\n\n&
 nbsp\;\n\nУважаемые представители компаний\,
  входящих в ЕВРОБАК\,\n\n&nbsp\;\n\nПриглашаем 
 Вас принять участие в вебинаре в рамках H
 R Комитета по теме «Как обеспечить соблю
 дение норм при найме иностранных специа
 листов в Казахстане».\n\n&nbsp\;\n\nСпикер:\n\nА
 нель Саулен\, руководитель офиса WPK в Алм
 аты\n\nДата: 8 ноября (пятница)\, 2024г\n\nВремя
 : 11.00-12.00\n\nФормат: Онлайн\, Zoom\n\nЯзык: Русск
 ий\n\n&nbsp\;\n\nДля подтверждения участия\, по
 жалуйста\, пройдите онлайн регистрацию\, 
 не позднее 7 ноября.
CATEGORIES:Committies
END:VEVENT
END:VCALENDAR