BEGIN:VCALENDAR
VERSION:2.0
PRODID:-//wp-events-plugin.com//7.2.3.1//EN
BEGIN:VEVENT
UID:170@eurobak.kz
DTSTART:20250319T053000Z
DTEND:20250319T063000Z
DTSTAMP:20250312T094236Z
URL:https://eurobak.kz/events/webinar-within-tax-committee-state-control-o
 f-import-and-export-of-goods-between-kazakhstan-and-other-eaeu-countries/
SUMMARY:webinar within Tax Committee: State Control of Import and Export of
  Goods Between Kazakhstan and Other EAEU Countries
DESCRIPTION:Dear EUROBAK Members\,\n\nWe are pleased to invite you to a web
 inar within Tax Committee: State Control of Import and Export of Goods Bet
 ween Kazakhstan and Other EAEU Countries.\n\nDate: 19 March\n\nTime: 10:30
 -11:30\nFormat: Online\nLanguage: Russian\n\nSpeaker: Kamila Urazalina –
  Counsil\, GRATA Law Firm\n\nDuring the webinar\, we will discuss:\n\n 	St
 ate control over the movement of goods within the EAEU\n 	Regulations on s
 pecific categories of goods\n 	Legal liability\n\nTo confirm your particip
 ation\, please complete the online registration by 18 March.\n\n&nbsp\;\n\
 n**************************************\n\nУважаемые предст
 авители компаний\, входящих в ЕВРОБАК\,\n\n
 Приглашаем вас принять участие в вебина
 ре в рамках Налогового комитета: Государ
 ственный контроль импорта и экспорта то
 варов между Казахстаном и другими стран
 ами ЕАЭС.\n\nДата: 19 марта\nВремя: 10:30-11:30\nФо
 рмат: Онлайн\nЯзык: Русский\n\nСпикер: Ками
 ла Уразалина – Советник\, Юридическая фи
 рма GRATA\n\nВ рамках вебинара мы обсудим:\n\n 
 	Государственный контроль за перемещени
 ем товаров в ЕАЭС\n 	Перемещение специфич
 еских товаров\n 	Правовая ответственност
 ь\n\nДля подтверждения участия\, пожалуйс
 та\, пройдите онлайн-регистрацию до 18 мар
 та.\n\n&nbsp\;
CATEGORIES:Committies
END:VEVENT
END:VCALENDAR