BEGIN:VCALENDAR
VERSION:2.0
PRODID:-//wp-events-plugin.com//7.2.3.1//EN
BEGIN:VEVENT
UID:162@eurobak.kz
DTSTART:20250313T060000Z
DTEND:20250313T070000Z
DTSTAMP:20250305T080805Z
URL:https://eurobak.kz/events/webinar-within-tax-commitee-general-declarat
 ion-changes-in-tax-legislation/
SUMMARY:webinar within Tax Committee\, “Universal Declaration: the lates
 t changes in the tax legislation of the Republic of Kazakhstan”
DESCRIPTION:Dear EUROBAK Members\,\n\n&nbsp\;\n\nWe are pleased to invite y
 ou to a webinar within Tax Committee\, “Universal Declaration: the late
 st changes in the tax legislation of the Republic of Kazakhstan”.\n\n&nb
 sp\;\n\nDate: 13 March\nTime: 11:00-12:00\nFormat: Online\nLanguage: R
 ussian\n\n&nbsp\;\n\nFor English speakers: if you cannot attend the webina
 r due to the Russian language\, please let us know.\n\n&nbsp\;\n\nSpeakers
 :\n\n&nbsp\;\n\nVialto Partners Kazakhstan\n\n&nbsp\;\n\n 	Dinara Salkauzo
 va – Manager\n 	Damira Rakhimova – Manager\n 	Adina Abdibai – Associ
 ate\n\n&nbsp\;\n\nThe speakers will elaborate on key changes\, new require
 ments for filing declarations\, possible risks and ways to minimize them. 
 We encourage any questions and opinions to make our discussion as informat
 ive and useful as possible for all participants.\n\n&nbsp\;\n\nWe look for
 ward to seeing you at the webinar!\n\n&nbsp\;\n\nTo confirm your participa
 tion\, please complete the online registration by 12 March.\n\n&nbsp\;\n\
 nУважаемые представители компаний\, вход
 ящих в ЕВРОБАК\,\n\n&nbsp\;\n\nПриглашаем вас п
 ринять участие в вебинаре в рамках Налог
 ового Комитета «Всеобщее Декларировани
 е: последние изменения в налоговом закон
 одательстве РК».\n\n&nbsp\;\n\nДата: 13 марта\nВ
 ремя: 11:00-12:00\nФормат: Онлайн\nЯзык: Русск
 ий\n\nСпикеры:\n\n&nbsp\;\n\nVialto Partners Kazakhstan\n\n&nbsp\
 ;\n\n 	Динара Салкаузова\n 	Дамира Рахимова\
 n 	Адина Абдибай\n\n&nbsp\;\n\nЭксперты Vialto Partner
 s Kazakhstan расскажут о ключевых изменениях\,
  новых требованиях к подаче деклараций\, 
 возможных рисках и способах их минимиза
 ции. Приветствуются любые вопросы\, мнен
 ия чтобы сделать дискуссию максимально 
 познавательной и полезной для всех учас
 тников.\n\n&nbsp\;\n\nБудем рады видеть вас на 
 вебинаре!\n\n&nbsp\;\n\nДля подтверждения учас
 тия\, пожалуйста\, пройдите онлайн-регист
 рацию до 12 марта.\n\n&nbsp\;
CATEGORIES:Committies
END:VEVENT
END:VCALENDAR