BEGIN:VCALENDAR
VERSION:2.0
PRODID:-//wp-events-plugin.com//7.2.3.1//EN
BEGIN:VEVENT
UID:253@eurobak.kz
DTSTART:20251120T060000Z
DTEND:20251120T073000Z
DTSTAMP:20251107T123855Z
URL:https://eurobak.kz/events/webinar-within-eurobak-tax-committee-split-o
 f-business/
SUMMARY:Webinar within EUROBAK Tax Committee: “Bussines fragmentation”
DESCRIPTION:Dear EUROBAK members\,\n\nWe are pleased to invite you to an up
 coming webinar within EUROBAK Tax Committee: "Bussines fragmentation"\n\nD
 ate: 20 November 2025\nTime: 11:00 – 12:30\nLanguage: Russian\nFormat: O
 nline\n\nSpeaker:\nLolita Zakirova — Founder of the AXISA Group of Compa
 nies\, auditor\, tax consultant RK\, CIPA\n\nAbout the webinar:\nToday’s
  business environment is marked by rapid changes in tax legislation and in
 creasing regulatory oversight. Companies need practical tools and strategi
 es to remain compliant while optimising taxation.\n\nThe webinar will cove
 r:\n* Signs of business splitting\n* Risks of business splitting\n\nWho sh
 ould attend:\nCompany owners\, CEOs\, CFOs\, chief accountants\, tax consu
 ltants\, and auditors interested in effective tax planning and risk manage
 ment solutions.\n\nTo confirm your participation\, please complete the on
 line registration by 19 November.\n\n&nbsp\;\n\nWe look forward to seeing 
 you at the webinar!\n\n\n\nУважаемые компании входя
 щие в ЕВРОБАК\,\n\nПриглашаем вас принять 
 участие в вебинаре\, организованном в ра
 мках Комитета по налогам ЕВРОБАК на тему
 : "Дробление бизнеса"\n\nДата: 20 ноября 2025 г
 ода\nВремя: 11:00 – 12:30\nЯзык: русский\nФорма
 т: онлайн\n\nСпикер: Лолита Закирова — осн
 ователь группы компаний AXISA\, аудитор\, на
 логовый консультант РК\, CIPA\n\nО вебинаре:\
 nСовременный бизнес сталкивается с быст
 рыми изменениями в налоговом законодате
 льстве и усилением контроля со стороны г
 осударственных органов. Компаниям необх
 одимы практические инструменты и страте
 гии\, которые позволяют оставаться в пра
 вовом поле и при этом эффективно оптимиз
 ировать налогообложение.\n\nВ рамках веби
 нара будут рассмотрены:\n* Признаки дробл
 ения бизнеса\n* Риски дробления бизнеса\n\
 nКому будет интересно:\nРуководителям и с
 обственникам компаний\, финансовым дире
 кторам\, главным бухгалтерам\, налоговым 
 консультантам и аудиторам\, заинтересов
 анным в эффективных решениях по налогов
 ому планированию и управлению рисками.\n\
 nДля подтверждения участия\, пожалуйста\,
  пройдите онлайн-регистрацию до 19 ноябр
 я.\n\n&nbsp\;\n\nБудем рады видеть вас на вебин
 аре!
CATEGORIES:Committies
END:VEVENT
END:VCALENDAR