BEGIN:VCALENDAR
VERSION:2.0
PRODID:-//wp-events-plugin.com//7.2.3.1//EN
BEGIN:VEVENT
UID:282@eurobak.kz
DTSTART:20260428T070000Z
DTEND:20260428T080000Z
DTSTAMP:20260422T111815Z
URL:https://eurobak.kz/events/webinar-within-eurobak-tax-committee-dedicat
 ed-to-notifications-from-tax-authorities-2026/
SUMMARY:Webinar within EUROBAK Tax Committee dedicated to «Notifications f
 rom tax authorities 2026»
DESCRIPTION:Уважаемые компании входящие в ЕВР
 ОБАК\,\n\nПриглашаем вас принять участие в
  вебинаре в рамках налогового Комитета Е
 ВРОБАК\, на тему: Уведомления от налоговы
 х органов 2026.\nДата: 28 апреля 2026\nВремя: 12:00
 -13:00\nЯзык: Русский\nВебинар посвящённый а
 ктуальным уведомлениям налоговых орган
 ов в 2026 году\, связанным с ними рискам\, а 
 также практическим рекомендациям по их 
 корректной и своевременной обработке.\n\n
 Спикеры:\nЛолита Закирова - Основатель/СЕ
 О\, Axisa\n\nЦелевая аудитория:\n• Главный бу
 хгалтер\,\n• Финансовый директор\,\n• Ауд
 итор\,\n• Директор\n\nДля подтверждения ва
 шего участия\, пожалуйста\, пройдите онла
 йн-регистрацию не позднее 27 апреля.\n\n\n\nDe
 ar EUROBAK Members\,\n\nWe invite you to webinar within EUROBAK Tax Commit
 tee dedicated to «Notifications from tax authorities 2026».\n\nDate: 28 
 April 2026\nTime: 12:00-13:00\nLanguage: Russian\n\nA webinar dedicated to
  the latest tax authority notifications in 2026\, the associated risks the
 y entail\, and practical guidance on how to respond to them accurately and
  in a timely manner.\n\nSpeaker:\nLolita Zakirova - Founder/CEO\, Axisa\n\
 nTarget audience:\n\n• Chief Accountant\,\n• Chief Financial Officer\,
 \n• Auditor\,\n• Director.\n\nTo confirm your participation\, please c
 omplete the online registration no later than 27 April.
CATEGORIES:Committies
END:VEVENT
END:VCALENDAR