BEGIN:VCALENDAR
VERSION:2.0
PRODID:-//wp-events-plugin.com//7.2.3.1//EN
BEGIN:VEVENT
UID:281@eurobak.kz
DTSTART:20260429T060000Z
DTEND:20260429T070000Z
DTSTAMP:20260422T083512Z
URL:https://eurobak.kz/events/webinar-within-eurobak-tax-committee-dedicat
 ed-to-current-practice-of-applying-the-multilateral-instrument-mli-by-tax-
 authorities/
SUMMARY:Webinar within EUROBAK Tax Committee dedicated to «Current practic
 e of applying the Multilateral Instrument (MLI) by tax authorities.»
DESCRIPTION:Dear EUROBAK Members\,\n\n&nbsp\;\n\nWe invite you to webinar w
 ithin EUROBAK Tax Committee dedicated to «Current practice of applying th
 e Multilateral Instrument (MLI) by tax authorities.»\n\nDate: 29 April 20
 26\n\nTime: 11:00-12:00\n\nLanguage: Russian\n\nAs the practice of applyin
 g the provisions of the Multilateral Instrument (MLI) in Kazakhstan is sti
 ll evolving\, we would like to share the latest developments on this topic
 .\n\nThe webinar will focus on the current practice of applying the MLI an
 d double taxation avoidance agreements by tax authorities. During the sess
 ion\, we plan to review the key approaches taken by tax authorities in int
 erpreting the provisions of the MLI\, including the beneficial ownership t
 est\, the principal purpose test (PPT)\, as well as practical issues arisi
 ng in the course of tax audits and disputes.\n\n&nbsp\;\n\nSpeaker: \n\nA
 ssel Ilyassova  - Partner GRATA International\, Kazakhstan\n\nTarget audi
 ence:\n\nAccountants\, finance professionals\, and lawyers.\n\n&nbsp\;\n\n
 To confirm your participation\, please complete the online registration no
  later than 28 April.\n\n&nbsp\;\n\n--------------------------------------
 ---\n\nУважаемые представители компаний\, в
 ходящих в ЕВРОБАК\,\n\n&nbsp\;\n\nПриглашаем ва
 с принять участие на вебинар в рамках на
 логового Комитета ЕВРОБАК\, на тему: Теку
 щая практика применения Многосторонней 
 конвенции (MLI) налоговыми органами.\n\nДат
 а: 29 апреля 2026\n\nВремя: 11:00-12:00\n\nЯзык: Русс
 кий\n\n&nbsp\;\n\nПоскольку практика применен
 ия положений MLI в Казахстане все еще нахо
 дится на стадии формирования\, мы хотели 
 бы поделиться последней практикой по эт
 ому вопросу.\n\n&nbsp\;\n\nВебинар будет посвя
 щен текущей практике применения MLI и сог
 лашений об избежании двойного налогообл
 ожения налоговыми органами. В рамках веб
 инара планируется рассмотреть основные 
 подходы налоговых органов к толкованию 
 положений MLI\, включая тест фактического 
 получателя дохода\, тест основной цели (PP
 T)\, а также практические вопросы\, возник
 ающие в ходе налоговых проверок и споров
 .\n\n&nbsp\;\n\nСпикер:\n\nАсель Ильясова – Парт
 нер\, ТОО «Юридическая фирма «GRATA»\n\n&nbsp\;\n
 \nЦелевая аудитория:\n\nБухгалтера\, финан
 совые специалисты\, юристы\n\n&nbsp\;\n\nДля по
 дтверждения вашего участия\, пожалуйста\
 , пройдите онлайн-регистрацию не позднее
  28 апреля.
CATEGORIES:Committies
END:VEVENT
END:VCALENDAR