BEGIN:VCALENDAR
VERSION:2.0
PRODID:-//wp-events-plugin.com//7.2.3.1//EN
BEGIN:VEVENT
UID:264@eurobak.kz
DTSTART:20251212T070000Z
DTEND:20251212T080000Z
DTSTAMP:20251210T105731Z
URL:https://eurobak.kz/events/webinar-within-eurobak-esg-committee-dedicat
 ed-to-implementation-of-ifrs-sds-s1-s2-sustainability-reporting-under-ifrs
 -and-how-to-prepare/
SUMMARY:Webinar within EUROBAK ESG Committee dedicated to «Implementation 
 of IFRS SDS (S1/S2/&#8230\;): Sustainability Reporting under IFRS and How 
 to Prepare»
DESCRIPTION:Dear EUROBAK Members\,\n\nWe invite you to webinar within EUROB
 AK ESG Committee dedicated to «Implementation of IFRS SDS (S1/S2/...): Su
 stainability Reporting under IFRS and How to Prepare»\n\n&nbsp\;\n\n\n\nD
 ate:\n12 December 2025\n\n\nTime:\n12:00-13:00\n\n\nVenue:\nOnline\n\n\nLa
 nguage:\nRussian\n\n\n\nKey Points\n\n 	Overview of IFRS SDS Standards: Un
 derstanding the concept of IFRS Sustainability Disclosure Standards and th
 eir role in financial sustainability disclosures.\n 	Core Disclosure Areas
  in IFRS S1 and IFRS S2. Key elements for reporting sustainability-related
  risks under IFRS S1 (General Requirements) and IFRS S2 (Climate-related D
 isclosures).\n 	Example of an IFRS SDS Report. What a new type of sustaina
 bility report could look like under IFRS SDS.\n 	Preparing for Future Adop
 tion of IFRS SDS. Steps and considerations for transitioning to the new su
 stainability reporting standards.\n\nSpeaker: \n\nVassiliy Kalabin - Seni
 or Manager\, PwC\, Sustainability reporting practice\n\n&nbsp\;\n\nTo conf
 irm your participation\, please complete the online registration no later 
 than 11 December.\n\n\n\nУважаемые представители к
 омпаний\, входящих в ЕВРОБАК\,\n\nПриглаша
 ем вас принять участие на вебинаре в рам
 ках ESG Комитета ЕВРОБАК\, на тему: “Обзор 
 лучших практик по подготовке отчетов в о
 бласти устойчивого развития (в частност
 и IFRS S1/S2)”\n\n\n\nДата:\n12 декабря 2025\n\n\nВремя
 :\n12:00-13:00\n\n\nМесто:\nОнлайн\n\n\nЯзык:\nРусски
 й\n\n\n\nКлючевые моменты\n\n\n 	Обзор стандар
 тов IFRS SDS. Понимание концепции стандарто
 в IFRS Sustainability Disclosure Standards и их роли в раскр
 ытии информации о финансовой устойчивос
 ти.\n 	Основные области раскрытия по IFRS S1 
 и IFRS S2. Ключевые элементы отчётности о св
 язанных с устойчивостью рисках согласно
  IFRS S1 (Общие требования) и IFRS S2 (Раскрытие 
 информации\, связанной с климатом).\n 	При
 мер отчёта по IFRS SDS. Как может выглядеть н
 овый формат отчёта об устойчивом развит
 ии в соответствии с IFRS SDS.\n 	Подготовка к 
 будущему внедрению IFRS SDS. Шаги и важные а
 спекты для перехода на новые стандарты о
 тчётности в области устойчивого развити
 я.\n\nСпикер:\nВасилий Калабин — старший м
 енеджер\, PwC\, практика отчётности в облас
 ти устойчивого развития\nДля подтвержде
 ния вашего участия\, пожалуйста\, пройди
 те онлайн-регистрацию не позднее 11 декаб
 ря.
CATEGORIES:Committies
END:VEVENT
END:VCALENDAR