BEGIN:VCALENDAR
VERSION:2.0
PRODID:-//wp-events-plugin.com//7.2.3.1//EN
BEGIN:VEVENT
UID:201@eurobak.kz
DTSTART:20250613T070000Z
DTEND:20250613T073000Z
DTSTAMP:20250610T133134Z
URL:https://eurobak.kz/events/webinar-within-esg-committee-esg-best-practi
 ces-in-ecolean/
SUMMARY:Webinar within ESG Committee: «ESG best practices in Ecolean»
DESCRIPTION:Dear EUROBAK Members\,\n\nWe are pleased to invite you to a web
 inar within ESG Committee: «ESG best practices in Ecolean»\n\nDate: 13 J
 une (Friday)\nTime: 12:00-12:30\nFormat: Online\nLanguage: English\n\nSp
 eaker:\n\nMaria Ahlström - Chief Sustainability Officer\, Ecolean AB\n\nC
 arin Hagsten - Product Manager - Food application\n\nMagnus Thörnqvist - 
 Director Group Procurement\, Ecolean AB\n\nSuggested Agenda:\n\nPlatinum r
 ating of Ecovadis - pros and cons\, how to build the operations inside of 
 your company to achieve it annually ( accent on procurement chain)\n\nWhat
  is EPD and why they can help your company in ESG reporting worldwide\n\nS
 ustainability reporting and new IFRS demands - Ecolean practices\n\n&nbsp\
 ;\n\nTo confirm your participation\, please complete the online registrati
 on by 12 June.\n\n&nbsp\;\n\nWe look forward to seeing you at the webinar!
CATEGORIES:Committies
END:VEVENT
END:VCALENDAR