BEGIN:VCALENDAR
VERSION:2.0
PRODID:-//wp-events-plugin.com//7.2.3.1//EN
BEGIN:VEVENT
UID:194@eurobak.kz
DTSTART:20250624T060000Z
DTEND:20250624T070000Z
DTSTAMP:20250623T071659Z
URL:https://eurobak.kz/events/webinar-within-digital-and-esg-committees-es
 g-reporting-with-digital-tools-insights-from-veon-and-beeline-kazakhstan/
SUMMARY:Webinar within Digital and ESG Committees\, “ESG Reporting with D
 igital Tools: Insights from VEON and Beeline Kazakhstan”
DESCRIPTION:Dear EUROBAK Members\,\n\nWe are pleased to invite you to a web
 inar within Digital and ESG Committees\, “ESG Reporting with Digital Too
 ls: Insights from VEON and Beeline Kazakhstan”.\n\nDate: 24 June (Tuesda
 y)\nTime: 11:00-12:00\nFormat: Online\nLanguage: English\n\nSpeaker:\n\nS
 adaf Tehmina — Manager ESG\, VEON\nGulim Abdi — Project Manager ESG\, 
 Zhyly Zhurek Foundation\n\n&nbsp\;\n\nSuggested Agenda (40 minutes):\n\n5 
 min – Welcome &amp\; Introduction\nBrief overview of the topic\, speaker
 s\, and the purpose of the session.\n\n20 min –  VEON speaker (Sadaf/Us
 man)\nTopic: Leveraging Workiva for ESG Reporting at VEON\n– Why VEON ad
 opted Workiva\n\n– The role of Workiva in ensuring transparency and data
  accuracy\n\n– Pre and post Workiva implementation workflows to demonstr
 ate process improvements. \n\n10 min – Beeline Kazakhstan speaker (Gulim
 )\nTopic: Localizing ESG Reporting with Workiva: Beeline’s Perspective\n
 – How Workiva is used within our internal processes\n– Lessons learned
  and practical takeaways\n\n5 min – Q&amp\;A and Closing Remarks\nIntera
 ction with participants and closing summary.\n\n&nbsp\;\n\nTo confirm your
  participation\, please complete the online registration by 23 June.\n\n&n
 bsp\;\n\nWe look forward to seeing you at the webinar!\n\n&nbsp\;\n\n&nbsp
 \;
CATEGORIES:Committies
END:VEVENT
END:VCALENDAR