BEGIN:VCALENDAR
VERSION:2.0
PRODID:-//wp-events-plugin.com//7.2.3.1//EN
BEGIN:VEVENT
UID:128@eurobak.kz
DTSTART:20241011T060000Z
DTEND:20241011T070000Z
DTSTAMP:20240925T043612Z
URL:https://eurobak.kz/events/webinar-well-doing-as-part-of-well-being-how
 -caring-for-others-enhances-your-life/
SUMMARY:Webinar: “Well-doing as Part of Well-being: How Caring for Others
  Enhances Your Life”
DESCRIPTION:Dear EUROBAK Members\,  \n\n \n\nWe would like to invite you 
 to join a webinar\, dedicated to the topic «Well-doing as Part of Well-be
 ing: How Caring for Others Enhances Your Life».\n\nThis webinar will focu
 s on the significance of corporate well-being\, emphasizing its key elemen
 ts and the latest trends in cultivating a healthy work environment. Partic
 ipants will explore practical strategies for fostering well-being within o
 rganizations\, with insights into how caring for others can boost overall 
 employee satisfaction and productivity. The webinar will also showcase suc
 cessful case studies from leading companies in Kazakhstan\, demonstrating 
 how corporate well-being initiatives have been effectively implemented to 
 create positive workplace cultures.\n\nSpeaker: \n\nDaria Fedorova\, CEO o
 f Empatia\n\nDate: 11 October (Friday)\, 2024\n\nTime: 11.00-12.00\n\nForm
 at: Online\, Zoom\n\nLanguage: Russian\n\nTo confirm your participation\, 
 please proceed with online registration no later than October 10.\n\n**** 
 **** ****\n\nУважаемые представители компани
 й\, входящих в ЕВРОБАК\,\n\n&nbsp\;\n\nПриглашае
 м Вас принять участие в вебинаре по теме 
 «Well-doing как часть Well-being: как забота о благ
 ополучии других повышает собственный ур
 овень благополучия».\n\nВебинар будет пос
 вящен важности заботы о корпоративном б
 лагополучии\, с акцентом на его ключевые 
 элементы и последние тенденции в создан
 ии здоровой рабочей среды. Участники озн
 акомятся с практическими стратегиями\, а
  также с тем\, как социальные проекты ком
 пании могут повысить общую удовлетворен
 ность сотрудников и их производительнос
 ть. На вебинаре также будут представлены
  успешные кейсы ведущих компаний Казахс
 тана\, демонстрирующие эффективно реали
 зованные инициативы по корпоративному б
 лагополучию.\n\nСпикер: \n\nДарья Федорова\,
  CEO Empatia.\n\n&nbsp\;\n\nДата: 11 октября (пятница)\,
  2024г\n\nВремя: 11.00-12.00\n\nФормат: Онлайн\, Zoom\n\
 nЯзык: Русский\n\nДля подтверждения участ
 ия\, пожалуйста\, пройдите онлайн регистр
 ацию\, не позднее 10 октября.\n\n 
CATEGORIES:Business
END:VEVENT
END:VCALENDAR