BEGIN:VCALENDAR
VERSION:2.0
PRODID:-//wp-events-plugin.com//7.2.3.1//EN
BEGIN:VEVENT
UID:181@eurobak.kz
DTSTART:20250520T060000Z
DTEND:20250520T070000Z
DTSTAMP:20250516T122440Z
URL:https://eurobak.kz/events/webinar-using-data-analytics-and-ai-in-busin
 ess/
SUMMARY:webinar: “Using Data\, Analytics and AI in Business”
DESCRIPTION:Dear EUROBAK Members\,\n\n&nbsp\;\n\nWe are pleased to invite y
 ou to a webinar within Digital Committee\, “Using Data\, Analytics and 
 AI in Business”.\n\nDate: 20 May (Tuesday)\nTime: 11:00-12:00\nFormat:
  Online\nLanguage: Russian\n\nSpeaker: Kazybek Beken\, Leader of Data\, 
 Analytics\, AI. PwC Eurasia\n\n&nbsp\;\n\nWe look forward to seeing you at
  the webinar!\n\n&nbsp\;\n\nTo confirm your participation\, please complet
 e the online registration by 19 May.\n\n&nbsp\;\n\n&nbsp\;\n\nУважа
 емые представители компаний\, входящих в
  ЕВРОБАК\,\n\nЕВРОБАК приглашает вас приня
 ть участие в вебинар в рамках Комитета п
 о цифровизации.: «Использование данных\, 
 аналитики и искусственного интеллекта в
  бизнесе».\n\nДата: 20 мая (вторник)\n\nВремя: 
 11:00 – 12:00\n\nФормат: Онлайн\n\nЯзык: Русский
 \n\nСпикер: Казыбек Бекен\, Лидер направле
 ния Data\, Analytics\, AI. PwC Евразия\n\n&nbsp\;\n\nДля по
 дтверждения вашего участия\, пожалуйста\
 , пройдите онлайн-регистрацию не поздне
 е 19 мая.\n\n&nbsp\;\n\nБудем рады видеть вас на 
 семинаре!\n\n&nbsp\;
CATEGORIES:Committies
END:VEVENT
END:VCALENDAR