BEGIN:VCALENDAR
VERSION:2.0
PRODID:-//wp-events-plugin.com//7.2.3.1//EN
BEGIN:VEVENT
UID:120@eurobak.kz
DTSTART:20240905T060000Z
DTEND:20240905T070000Z
DTSTAMP:20240820T083129Z
URL:https://eurobak.kz/events/webinar-under-hr-committee-dedicated-to-the-
 topic-people-join-companies-but-most-leave-because-of-managers-how-leaders
 -can-address-burnout-and-increase-employee-engagement/
SUMMARY:webinar under HR Committee\, dedicated to the topic «People join c
 ompanies but most leave because of managers: how leaders can address burno
 ut and increase employee engagement»
DESCRIPTION:Dear EUROBAK Members\,\n\n&nbsp\;\n\nWe would like to invite yo
 u to join a webinar under HR Committee\, dedicated to the topic «People j
 oin companies but most leave because of managers: how leaders can address 
 burnout and increase employee engagement».\n\nSpeaker:\n\nAlan Ibraim - C
 EO of Sezim\, the largest online therapy platform in Kazakhstan.\n\n&nbsp\
 ;\n\nDate: 5 September (Thursday)\, 2024\n\nTime: 11.00-12.00\n\nFormat: 
  Online\, Zoom\n\nLanguage: Russian\n\nWebinar Content:\n\n  Results 
 of the study on the psycho-emotional state of employees in Kazakhstan\n\n
   The most common causes of employee burnout\n\n  Challenges faced
  by key business departments and how leaders can provide support\n\n  
 Employee well-being: practices that every leader can implement regularly\n
 \n&nbsp\;\n\nTo confirm your participation\, please proceed with online re
 gistration no later than September 4.\n\n**** **** ****\n\nУважаем
 ые представители компаний\, входящих в Е
 ВРОБАК\,\n\nПриглашаем Вас принять участи
 е в вебинаре в рамках HR Комитета по теме 
 «Приходят в компанию\, уходят от менеджм
 ента: Как руководителям работать с выгор
 анием и повышать вовлеченность сотрудни
 ков».\n\nСпикеры:\n\nАлан Ибраим - CEO платфор
 мы Sezim\, крупнейшего казахстанского серв
 иса онлайн-терапии.\n\n \n\nДата: 5 сентября 
 (четверг)\, 2024г\n\nВремя: 11.00-12.00\n\nФормат: Он
 лайн\, Zoom\n\nЯзык: Русский\n\n&nbsp\;\n\nСодержан
 ие вебинара:\n\n- Результаты исследования 
 психоэмоционального состояния сотрудни
 ков в Казахстане\;\n\n- Самые частые причин
 ы выгорания сотрудников\;\n\n- Трудности\, 
 с которыми сталкиваются ключевые отделы
  бизнеса и как руководитель может оказат
 ь поддержку\;\n\n- Благополучие сотруднико
 в - практики\, которые каждый руководител
 ь может внедрить на регулярной основе.\n\n
 &nbsp\;\n\nДля подтверждения участия\, пожалу
 йста\, пройдите онлайн регистрацию\, не п
 озднее 4 сентября.
CATEGORIES:Committies
END:VEVENT
END:VCALENDAR