BEGIN:VCALENDAR
VERSION:2.0
PRODID:-//wp-events-plugin.com//7.2.3.1//EN
BEGIN:VEVENT
UID:143@eurobak.kz
DTSTART:20241111T060000Z
DTEND:20241111T070000Z
DTSTAMP:20241128T094439Z
URL:https://eurobak.kz/events/webinar-the-final-stage-of-universal-declara
 tion-in-kazakhstan-in-2025-key-issues-and-recommendations/
SUMMARY:Webinar «The final stage of universal declaration in Kazakhstan in
  2025: key issues and recommendations»
DESCRIPTION:
CATEGORIES:Committies
END:VEVENT
END:VCALENDAR