BEGIN:VCALENDAR
VERSION:2.0
PRODID:-//wp-events-plugin.com//7.2.3.1//EN
BEGIN:VEVENT
UID:144@eurobak.kz
DTSTART:20241212T060000Z
DTEND:20241212T070000Z
DTSTAMP:20241204T074536Z
URL:https://eurobak.kz/events/webinar-dedicated-to-the-topic-dispute-resol
 ution-at-the-aifc/
SUMMARY:Webinar\, dedicated to the topic «Dispute Resolution at the AIFC»
DESCRIPTION:Dear EUROBAK Members\,\n\nWe would like to invite you to join a
  webinar\, dedicated to the topic «Dispute Resolution at the AIFC».\n\nS
 peaker:\n\nBakhyt Tukulov -  TKS Disputes\, Partner\n\n&nbsp\;\n\nDate: 1
 2 December (Thursday)\, 2024\n\nTime: 11.00-12.00\n\nFormat:  Online\, Zo
 om\n\nLanguage: Russian\n\nThe webinar will cover several key topics\, inc
 luding:\n\n 	Specifics of the AIFC jurisdiction\;\n 	Advantages of dispute
  resolution within this system\;\n 	Practical aspects of the AIFC Court an
 d International Arbitration Centre (IAC)\n\nTo confirm your participation\
 , please proceed with online registration no later than 11 December.\n\n**
 ** **** ****\n\n&nbsp\;\n\nУважаемые представители 
 компаний\, входящих в ЕВРОБАК\,\n\nПриглаш
 аем Вас принять участие в вебинаре по те
 ме «Разрешение споров в МФЦА»\n\nСпикер:\n\
 nБахыт Тукулов\, TKS Disputes\, Партнер\n\nДата: 12
  декабря (четверг)\, 2024г\n\nВремя: 11.00-12.00\n\nФ
 ормат: Онлайн\, Zoom\n\nЯзык: Русский\n\n&nbsp\;\n\n
 На вебинаре будет рассмотрен ряд ключев
 ых вопросов\, включая:\n\n 	Особенности юри
 сдикции МФЦА\;\n 	Преимущества разрешения
  споров в рамках данной системы\;\n 	Практ
 ические аспекты работы Суда МФЦА и Между
 народного арбитражного центра (МАЦ).\n\nДл
 я подтверждения участия\, пожалуйста\, пр
 ойдите онлайн регистрацию\, не позднее 11 
 декабря.
CATEGORIES:Committies
END:VEVENT
END:VCALENDAR