BEGIN:VCALENDAR
VERSION:2.0
PRODID:-//wp-events-plugin.com//7.2.3.1//EN
BEGIN:VEVENT
UID:131@eurobak.kz
DTSTART:20241024T060000Z
DTEND:20241024T070000Z
DTSTAMP:20241021T081056Z
URL:https://eurobak.kz/events/webinar-dedicated-to-the-topic-data-analysis
 -how-to/
SUMMARY:webinar\, dedicated to the topic «How to Effectively Utilize AI T
 ools for Insightful Reporting»
DESCRIPTION:Dear EUROBAK Members\,\n\n&nbsp\;\n\nWe would like to invite yo
 u to join a webinar\, dedicated to the topic «How to Effectively Utiliz
 e AI Tools for Insightful Reporting».\n\n&nbsp\;\n\nSpeaker:\n\n&nbsp\;\n
 \nHamid Reza Shahbazkia\, PhD\, Associate Prof. CHSE Kimep.\n\n&nbsp\;\n\n
 Hamid Reza  Shahbazkia has graduated from the University of Strasbourg\, 
 he has more than 25 years of experience in academia. His main expertise is
  in image processing\, AI\, and data analytics.\n\n&nbsp\;\n\nDate: 24 Oct
 ober (Thursday)\, 2024\n\nTime: 11.00-12.00\n\nFormat:  Online\, Zoom\n\n
 Language: English\n\n&nbsp\;\n\nParticipants will learn how to leverage to
 ols like ChatGPT to create comprehensive and conclusive reports based on v
 arious information sources.\n\n \n\nIn today's world\, where access to ab
 undant information and advanced computational tools is widespread\, discus
 sions must follow a structured and well-grounded workflow. This presentati
 on will provide a clear understanding of the ethical and correct methodolo
 gies for collecting\, organizing\, presenting\, and interpreting informati
 on.\n\nThe webinar will guide attendees through the nuances of writing rep
 orts that are clear\, well-structured\, and leave no room for ambiguity.\n
 \nParticipants will gain the skills needed to handle information responsib
 ly and communicate their insights effectively.\n\n \n\nParticipants are e
 xpected to have a ChatGPT account.\n\n&nbsp\;\n\nTo confirm your participa
 tion\, please proceed with online registration no later than 23 October.\n
 \n&nbsp\;
CATEGORIES:Committies
END:VEVENT
END:VCALENDAR