BEGIN:VCALENDAR
VERSION:2.0
PRODID:-//wp-events-plugin.com//7.2.3.1//EN
BEGIN:VEVENT
UID:215@eurobak.kz
DTSTART:20250919T060000Z
DTEND:20250919T070000Z
DTSTAMP:20250915T124820Z
URL:https://eurobak.kz/events/webinar-business-perspectives-success-in-a-n
 ew-way/
SUMMARY:Мероприятии: «Эволюция Успеха: от ре
 зультата к смыслам»
DESCRIPTION:Уважаемые представители компаний\
 , входящих в ЕВРОБАК\,\n\n\n\nЕВРОБАК пригла
 шает вас принять участие на мероприятии:
  «Эволюция Успеха: от результата к смысл
 ам».Дата: 19 сентября (пятница)Время: 11:00 - 1
 2:00Язык: русскийФормат: онлайнСпикер: Аги
 ла Жайлымысова\, PWC KazakhstanПереосмыслите п
 одход к успеху через призму устойчивого 
 развития\, лидерства и стратегического м
 ышления.От достигаторства к балансу - ка
 к превратить индивидуальные сильные сто
 роны в устойчивый человеческий капитал\,
  повышая продуктивность команды до 40%.\n\n
 Инструменты целенаправленного роста - п
 рактические подходы к формулированию и 
 достижению целей в условиях высокой нео
 пределённости.\n\nНовая парадигма успеха 
 - почему психологическая безопасность и 
 благополучие становятся ключевыми факт
 орами устойчивого лидерства и карьерног
 о роста.\n\nДля подтверждения вашего учас
 тия \, пожалуйста пройдите онлайн регист
 рацию не позднее 18 сентября.\n\nБудем рады
  видеть вас на вебинаре!\n\n\n\n
CATEGORIES:Networking
END:VEVENT
END:VCALENDAR