BEGIN:VCALENDAR
VERSION:2.0
PRODID:-//wp-events-plugin.com//7.2.3.1//EN
BEGIN:VEVENT
UID:161@eurobak.kz
DTSTART:20250312T093000Z
DTEND:20250312T110000Z
DTSTAMP:20250226T120033Z
URL:https://eurobak.kz/events/webinar-ai-in-business-microsoft-365-copilot
 /
SUMMARY:webinar “AI in Business: Microsoft 365 Copilot”
DESCRIPTION:Dear EUROBAK Members\,\n\nWe are pleased to invite you to a web
 inar "AI in Business: Microsoft 365 Copilot"\n\nDate: 12 March\n\nTime: 14
 :30 – 16:00\n\nFormat: Online\n\nLanguage: Russian\n\n&nbsp\;\n\nSpeaker
 : Sergey Oreshin – Presale Architect: Microsoft Modern Workspace\, Noven
 tiq EE&amp\;CA\n\nDuring the webinar\, we will discuss:\n\n 	AI at the ser
 vice of the organization\;\n 	Overview of Microsoft 365 Copilot\;\;\n 	Sec
 urity of using Microsoft 365 Copilot\;\n 	Expanding the capabilities of Mi
 crosoft 365 Copilot.\n\n&nbsp\;\n\nThis session will be useful for anyone 
 looking to implement AI solutions in their company's operations while ensu
 ring data security.\n\nYou will gain a complete understanding of how AI to
 ols\, such as Microsoft 365 Copilot\, can enhance your team's productivity
 \,\n\nas well as receive personalized recommendations for the implementati
 on and use of Microsoft 365 Copilot.\n\n&nbsp\;\n\nTo confirm your partici
 pation\, please complete the online registration by 11 March.\n\n_________
 ________________________________________________________________________\n
 \n&nbsp\;\n\nУважаемые представители компани
 й\, входящих в ЕВРОБАК\,\n\nПриглашаем вас 
 принять участие в вебинаре: «ИИ в бизнес
 е: Microsoft 365 Copilot»\n\nДата: 12 марта\n\nВремя: 14:3
 0 – 16:00\n\nФормат: Онлайн\n\nЯзык: Русский\n\n
 Спикер: Сергей Орешин – Presale Architect: Microsoft M
 odern Workspace\, Noventiq EE&amp\;CA\n\n&nbsp\;\n\nВ рамках веб
 инара мы обсудим:\n\n&nbsp\;\n\n 	ИИ на службе о
 рганизации\;\n 	Обзор Microsoft 365 Copilot\;\n 	Безоп
 асность использования Microsoft 365 Copilot\;\n 	Ра
 сширение возможностей Microsoft 365 Copilot.\n\n&nbsp\
 ;\n\nЭтот вебинар будет полезен всем\, кто 
 стремится внедрить ИИ-решения в работу к
 омпании\, обеспечивая при этом безопасно
 сть данных.\n\nВы получите полное предста
 вление о том\, как ИИ-инструменты\, такие 
 как Microsoft 365 Copilot\, могут повысить продукт
 ивность вашей команды\,\n\nа также получит
 е персонализированные рекомендации по в
 недрению и использованию Microsoft 365 Copilot.\n\n
 Для подтверждения участия\, пожалуйста\, 
 пройдите онлайн-регистрацию до 11 March.
CATEGORIES:Committies
END:VEVENT
END:VCALENDAR