BEGIN:VCALENDAR
VERSION:2.0
PRODID:-//wp-events-plugin.com//7.2.3.1//EN
BEGIN:VEVENT
UID:238@eurobak.kz
DTSTART:20250929T190000Z
DTEND:20251001T190000Z
DTSTAMP:20250924T125106Z
URL:https://eurobak.kz/events/translogistica-kazakhstan-2025-the-largest-t
 ransport-and-logistics-exhibition-in-central-asia-will-unite-270-companies
 -from-20-countries/
SUMMARY:Translogistica Kazakhstan 2025: The Largest Transport And Logistics
  Exhibition In Central Asia Will Unite 270 Companies From 20 Countries
DESCRIPTION:\n\nFrom September 30 to October 2\, 2025\, the 28th Kazakhstan
  International Exhibition "Transport And Logistics" Translogistica Kazakhs
 tan 2025 will be held in Almaty at the Atakent Exhibition Center. This is 
 the largest event in the transport and logistics industry in Central Asia\
 , which annually becomes a focal point for market leaders\, government str
 uctures\, and international partners.\n\nThis year\, 270 companies from 20
  countries will participate in the exhibition: Austria\, Azerbaijan\, Bela
 rus\, Germany\, Georgia\, India\, Kazakhstan\, China\, Latvia\, Lithuania\
 , United Arab Emirates\, Pakistan\, Russia\, Romania\, USA\, Turkmenistan\
 , Turkey\, Uzbekistan\, Switzerland\, and Estonia. Among the participants 
 will be national groups from Belarus\, Lithuania\, Latvia\, and Estonia\, 
 whose presence demonstrates the countries' desire for active cooperation w
 ith Central Asia.\n\n128 companies from Kazakhstan and 142 from foreign co
 untries will present their innovative solutions and innovations in the fie
 ld of transport and logistics. This indicates the dynamic development of t
 he industry in the country\, highlighting international interest in this p
 romising sector.\n\nFor the first time\, exhibitors from India and Pakista
 n will participate in TransLogistica Kazakhstan 2025\, expanding the geogr
 aphy of the exhibition and confirming its status as an international platf
 orm. Participants will also enjoy a unique tour of the modern warehouse of
  Burunday Container Terminal with a demonstration of innovative technologi
 es in the field of logistics.\n\nThe business program of the exhibition is
  traditionally rich and covers a wide range of relevant issues. On the fir
 st day\, September 30\, seminars by companies Aspan Karagai Machinery\, Wa
 rehouse Technologies\, and Daobit will be held.\n\nOn October 1\, the IV C
 onference "Warehouse Logistics Market in Kazakhstan"\, a tour of the moder
 n warehouse of Burunday Container Terminal\, the II Conference on the tran
 sportation of oversized and heavy cargo BreakBulk Kazakhstan\, a seminar b
 y Rhino Group\, and a presentation by the Latvian company SIA SIGIS "ASUP 
 – Automated Transportation Management System" will take place.\n\nThe bu
 siness programme will conclude on October 2 with the discussion session Ex
 pert Talks "Results of Kazakhstan Transport Week: Eurasia 2025 – Logisti
 cs of New Multipolarity."\n\nIt is worth noting that on September 30\, the
  VII International Transport and Logistics Business Forum "New Silk Way" w
 ill be held at the Royal Tulip Hotel as part of Kazakhstan Transport Week.
  The forum will serve as a platform for strategic dialogue on the future o
 f transit routes\, Kazakhstan's role in trans-Eurasian transportation\, an
 d prospects for international cooperation.\n\nThe event is organized by Ka
 zakhstan exhibition companies Iteca and Atakent-Expo and the international
  partner – ICA Events Group.\n\nThe event is officially supported by the
  Ministry of Transport of the Republic of Kazakhstan\, JSC "NC "Kazakhstan
  Temir Zholy"\, the National Chamber of Entrepreneurs of the Republic of K
 azakhstan "Atameken"\, the Association of National Forwarders\, the Union 
 of Transport Workers of Kazakhstan "KAZLOGISTICS"\, the Kazakhstan Associa
 tion of Carriers and Wagon Operators\, Chartered Institute of Logistics an
 d Transport Central Asia.\n\nMore detailed information about the exhibitio
 n and the list of participants can be found on the event's website: www.tr
 anslogistica.kz.\n\nGet a ticket via the link https://translogistica.kz/en
 /for-visitors/get-e-invitation?promo=TRA2025BAK&amp\;utm_source=Eurobak&am
 p\;utm_medium=anons&amp\;utm_campaign=vis
CATEGORIES:Non-EUROBAK event
END:VEVENT
END:VCALENDAR