BEGIN:VCALENDAR
VERSION:2.0
PRODID:-//wp-events-plugin.com//7.2.3.1//EN
BEGIN:VEVENT
UID:82@eurobak.kz
DTSTART:20240404T060000Z
DTEND:20240404T070000Z
DTSTAMP:20240319T035226Z
URL:https://eurobak.kz/events/the-resilience-formula-how-to-improve-your-p
 sychological-resilience/
SUMMARY:The Resilience Formula: How to Improve Your Psychological Resilienc
 e
DESCRIPTION:Dear EUROBAK Members\,\n\nWe would like to invite you to join a
  webinar dedicated to the topic: The Resilience Formula: How to Improve Yo
 ur Psychological Resilience. \n\nThe webinar will allow participants to a
 cquire skills in psychological resilience to stressful factors\, which are
  necessary for overcoming life difficulties.\n\nSpeaker: Roza Baybulatovn
 a Amanzholova. International SOS - psychologist consultant. Master's degre
 e in psychology. Member of the Association of Polygraph Examiners of the R
 epublic of Kazakhstan.\n\n\n\nDate:\n4 April (Thursday)\, 2024\n\n\nTime:
 \n11.00-12.00\n\n\nFormat: \nOnline\, Zoom\n\n\nLanguage:\nRussian\n\n\n\n
 To confirm your participation\, please proceed with online registration n
 o later than April 2.\n\n**** **** ****\n\nУважаемые предст
 авители компаний\, входящих в ЕВРОБАК\,\n\n
 Приглашаем Вас принять участие в вебина
 ре\, посвященном теме «Формула жизнестой
 кости» Как повысить свою психологическу
 ю устойчивость».\n\n \n\nВебинар позволит п
 ознакомить участников с навыками психол
 огической устойчивости к стрессовым фак
 торам\, которые необходимы для преодолен
 ия жизненных трудностей.\n\n \n\nСпикер: Ам
 анжолова Роза Байбулатовна. International SOS - п
 сихолог-консультант. Преподаватель (маг
 истр) психологии. Член ассоциации полигр
 афологов РК.\n\n&nbsp\;\n\n\n\nДата:\n4 апреля (чет
 верг)\, 2024г\n\n\nВремя:\n11.00-12.00\n\n\nФормат:\nОн
 лайн\, Zoom\n\n\nЯзык:\nРусский\n\n\n\nДля подтве
 рждения участия\, пожалуйста\, пройдите о
 нлайн регистрацию\, не позднее 2 апреля.
CATEGORIES:Committies
END:VEVENT
END:VCALENDAR