BEGIN:VCALENDAR
VERSION:2.0
PRODID:-//wp-events-plugin.com//7.2.3.1//EN
BEGIN:VEVENT
UID:70@eurobak.kz
DTSTART:20240208T050000Z
DTEND:20240208T060000Z
DTSTAMP:20240123T043745Z
URL:https://eurobak.kz/events/tax-disputes-in-the-field-of-desk-control-wh
 at-changes-will-be-in-2024/
SUMMARY:Tax disputes in the field of desk control. What changes will be in 
 2024
DESCRIPTION:The speaker will share the information about Tax disputes in th
 e field of desk control\, and what changes should we expect in 2024
CATEGORIES:Committies
END:VEVENT
END:VCALENDAR