BEGIN:VCALENDAR
VERSION:2.0
PRODID:-//wp-events-plugin.com//7.2.3.1//EN
BEGIN:VEVENT
UID:24@eurobak.kz
DTSTART:20230602T050000Z
DTEND:20230602T060000Z
DTSTAMP:20230601T031144Z
URL:https://eurobak.kz/events/tax-committee/
SUMMARY:Tax Committee
DESCRIPTION:Overview of the main changes in the new Normative Resolution of
  the Supreme Court on the court practice of applying the tax legislation: 
 on sham transactions\, cameral control\, limitation periods and other issu
 es
CATEGORIES:Committies
END:VEVENT
END:VCALENDAR