BEGIN:VCALENDAR
VERSION:2.0
PRODID:-//wp-events-plugin.com//7.2.3.1//EN
BEGIN:VEVENT
UID:61@eurobak.kz
DTSTART:20231122T050000Z
DTEND:20231122T060000Z
DTSTAMP:20231214T031622Z
URL:https://eurobak.kz/events/tax-committee-new-tax-code/
SUMMARY:Tax Committee: New Tax Code
DESCRIPTION:Discussion of changes in the Tax Code coming into force from th
 e January 1\,  2024
CATEGORIES:Committies
END:VEVENT
END:VCALENDAR