BEGIN:VCALENDAR
VERSION:2.0
PRODID:-//wp-events-plugin.com//7.2.3.1//EN
BEGIN:VEVENT
UID:54@eurobak.kz
DTSTART:20231027T050000Z
DTEND:20231027T060000Z
DTSTAMP:20231019T093950Z
URL:https://eurobak.kz/events/tax-committee-international-automatic-exchan
 ge-of-financial-information/
SUMMARY:Tax Committee: International automatic exchange of financial inform
 ation
DESCRIPTION:What information and from which countries is received by the St
 ate Revenue Committee of RK for citizens of Kazakhstan?
CATEGORIES:Committies
END:VEVENT
END:VCALENDAR