BEGIN:VCALENDAR
VERSION:2.0
PRODID:-//wp-events-plugin.com//7.2.3.1//EN
BEGIN:VEVENT
UID:52@eurobak.kz
DTSTART:20231030T083000Z
DTEND:20231030T093000Z
DTSTAMP:20231214T031752Z
URL:https://eurobak.kz/events/tax-committee-current-practice-of-vat-refund
 -from-the-budget/
SUMMARY:Tax Committee: Current practice of VAT refund from the budget
DESCRIPTION:Speaker: Kanat Adilbekov\, Advisor\, GRATA International 
CATEGORIES:Committies
END:VEVENT
END:VCALENDAR