BEGIN:VCALENDAR
VERSION:2.0
PRODID:-//wp-events-plugin.com//7.2.3.1//EN
BEGIN:VEVENT
UID:22@eurobak.kz
DTSTART:20230428T040000Z
DTEND:20230428T050000Z
DTSTAMP:20230413T051708Z
URL:https://eurobak.kz/events/tax-committee-cameral-control/
SUMMARY:Tax Committee: cameral control
DESCRIPTION:We invite you to join EUROBAK Tax Committee’s meeting dedicat
 ed to the discussion of the issues related to cameral control.
CATEGORIES:Committies
END:VEVENT
END:VCALENDAR