BEGIN:VCALENDAR
VERSION:2.0
PRODID:-//wp-events-plugin.com//7.2.3.1//EN
BEGIN:VEVENT
UID:51@eurobak.kz
DTSTART:20231012T033000Z
DTEND:20231012T060000Z
DTSTAMP:20231214T031859Z
URL:https://eurobak.kz/events/tax-audit-and-cameral-control-in-the-republi
 c-of-kazakhstan-latest-trends-aktau/
SUMMARY:Tax audit and cameral control in the Republic of Kazakhstan: latest
  trends\, Aktau
DESCRIPTION:We would like to invite you to a business meeting in Aktau\, ar
 ranged along with EY\, and Petrocouncil.kz and dedicated to the discussion
  of tax issues.
CATEGORIES:Committies
LOCATION:Renaissance Aktau Hotel\, Microdistrict 9\, Aktau\, Aktau\, Kazakh
 stan\, Kazakhstan
X-APPLE-STRUCTURED-LOCATION;VALUE=URI;X-ADDRESS=Microdistrict 9\, Aktau\, A
 ktau\, Kazakhstan\, Kazakhstan;X-APPLE-RADIUS=100;X-TITLE=Renaissance Akta
 u Hotel:geo:0,0
END:VEVENT
END:VCALENDAR