BEGIN:VCALENDAR
VERSION:2.0
PRODID:-//wp-events-plugin.com//7.2.3.1//EN
BEGIN:VEVENT
UID:232@eurobak.kz
DTSTART:20250925T110000Z
DTEND:20250925T120000Z
DTSTAMP:20250918T131005Z
URL:https://eurobak.kz/events/special-meeting-with-a-business-delegation-f
 rom-cyprus/
SUMMARY:Special meeting with a business delegation from Cyprus
DESCRIPTION:\n\nDear EUROBAK Members\,\n\nWe are pleased to invite you to a
  special meeting with a business delegation from Cyprus\, which will take 
 place in Almaty as part of the visit of the Successful Business Leaders’
  Club (www.sblclub.com).\nDate: 25 September (Thursday)Time: 16:00Language
 : Russian/EnglishVenue: Holiday InnAddress: 2D Timiryazeva Street\, Almaty
 Phone: +7 7272 44 02 55\nThe delegation includes owners and executives of 
 leading Cypriot companies operating in the following sectors:\n\n\n 	\nCor
 porate finance\n\n 	\nAudit and international tax planning\n\n 	\nInvestme
 nt funds and asset management\n\n 	\nCorporate and commercial law\, real e
 state\, migration services\n\n 	\nCorporate and fiduciary services\, priva
 te wealth management\n\n 	\nStrategic consulting\, due diligence\, and dig
 ital transformation\n\n 	\nBeauty and healthcare industry\, cosmetics R&am
 p\;D and distribution\n\n 	\nESG\, capital markets\, and investment struct
 ures\n\n 	\nBusiness communications and bilateral relations development\n\
 n\nMeeting agenda:\n\n\n 	\nIntroduction of the delegation – short prese
 ntations\n\n 	\nDiscussion: Kazakhstan – Cyprus: Prospects for Cooperati
 on\n\n 	\nQ&amp\;A session\n\n 	\nNetworking and coffee break\n\n\nThis me
 eting will provide valuable insights into opportunities for entering the E
 U market through Cyprus\, open discussions on potential cooperation\, and 
 the chance to establish direct connections with prospective partners.\nTo 
 confirm your participation\, please register by 24 September.\n\n\n\n-----
 --------------------------------------------------------------------------
 ---------\n\nУважаемые представители компани
 й\, входящих в ЕВРОБАК\,\n\n\n\nЕВРОБАК пригл
 ашает вас принять участие на специальну
 ю встречу с бизнес-делегацией из Кипра\, 
 которая состоится в Алматы в рамках визи
 та Successful Business Leaders’ Club (www.sblclub.com).\n\nДата: 2
 5 сентября (четверг)Время: 16:00 Язык: Русск
 ий/АнглийскийМесто проведения: Holiday Inn Ад
 рес: ул. Тимирязева 2д\, Алматы\nТелефон: +7 
 7272 44 02 55\n&nbsp\;\n\nВ состав делегации входят 
 владельцы и руководители ведущих кипрск
 их компаний\, работающих в сферах:\n\n&nbsp\;\n
 \nкорпоративные финансы\;\n\nаудит и между
 народное налоговое планирование\;\n\nинве
 стиционные фонды и управление активами\;
 \n\nкорпоративное и коммерческое право\, н
 едвижимость\, миграционные услуги\;\n\nкор
 поративные и фидуциарные услуги\, управл
 ение частным капиталом\;\n\nстратегически
 й консалтинг\, due diligence и цифровая трансфо
 рмация\;\n\nиндустрия красоты и здоровья\, 
 R&amp\;D и дистрибуция косметики\;\n\nESG\, рынк
 и капитала и инвестиционные структуры\;\n
 \nбизнес-коммуникации и развитие двустор
 онних связей.\n\n&nbsp\;\n\nПрограмма встречи:\
 n\nЗнакомство с участниками делегации – 
 краткие выступления\n\nДискуссия «Казахс
 тан – Кипр: перспективы сотрудничества»
 \n\nСессия вопросов и ответов\n\nНетворкин
 г и кофе-брейк\n\n&nbsp\;\n\nЭта встреча позвол
 ит получить актуальную информацию о воз
 можностях выхода на рынок ЕС через Кипр\,
  обсудить перспективы взаимного сотрудн
 ичества\, установить личные контакты с п
 отенциальными партнёрами.\n\n&nbsp\;\n\nДля по
 дтверждения участия просьба зарегистри
 роваться до 24 сентября\n\n&nbsp\;\n\n[embeddoc url="htt
 ps://eurobak.kz/wp-content/uploads/2025/09/Bio-and-Expertise-of-SBLClub-De
 legationt_September-2025.pdf"]\n\n&nbsp\;
CATEGORIES:Business
END:VEVENT
END:VCALENDAR