BEGIN:VCALENDAR
VERSION:2.0
PRODID:-//wp-events-plugin.com//7.2.3.1//EN
BEGIN:VEVENT
UID:235@eurobak.kz
DTSTART:20251112T050000Z
DTEND:20251114T130000Z
DTSTAMP:20250923T114710Z
URL:https://eurobak.kz/events/plastex-qazaqstan-2025-%d0%bd%d0%be%d0%b2%d0
 %b0%d1%8f-%d0%bf%d1%80%d0%be%d1%84%d0%b5%d1%81%d1%81%d0%b8%d0%be%d0%bd%d0%
 b0%d0%bb%d1%8c%d0%bd%d0%b0%d1%8f-%d0%bf%d0%bb%d0%b0%d1%82%d1%84%d0%be%d1%8
 0%d0%bc/
SUMMARY:PLASTEX QAZAQSTAN 2025: НОВАЯ ПРОФЕССИОНАЛЬНАЯ
  ПЛАТФОРМА ДЛЯ РАЗВИТИЯ ХИМИЧЕСКОЙ И ПОЛ
 ИМЕРНОЙ ПРОМЫШЛЕННОСТИ
DESCRIPTION:С 12 ПО 14 НОЯБРЯ 2025 ГОДА НА ТЕРРИТОР
 ИИ ВЫСТАВОЧНОГО КОМПЛЕКСА «АТАКЕНТ» (Г.
 АЛМАТЫ) ВПЕРВЫЕ ПРОЙДЕТ КАЗАХСТАНСКАЯ М
 ЕЖДУНАРОДНАЯ ВЫСТАВКА ПЛАСТМАСС И ХИМИЧ
 ЕСКОЙ ПРОМЫШЛЕННОСТИ – PLASTEX QAZAQSTAN.\n\nМас
 штабное отраслевое событие объединит ве
 дущих производителей\, поставщиков и пот
 ребителей пластмасс\, каучуков\, полимер
 ов и химической продукции. Выставка буде
 т представлена следующими разделами:\n\n-
 Технологии и оборудование для переработ
 ки полимеров\n\n-Сырье и материалы для про
 изводства\n\n-3D-печать и цифровое произво
 дство\n\n-Пресс-формы и оснастка\n\n-Готова
 я продукция и детали\n\n-Вторичная перера
 ботка и регенераты\n\nВремя больших возмо
 жностей\n\nРазвитие отрасли пластмасс и х
 имии в Казахстане сегодня отражает как м
 ировые тенденции\, так и стратегический 
 курс страны на повышение промышленной н
 езависимости.\n\nПо данным Бюро националь
 ной статистики:\n\n- в 2024 году обрабатываю
 щая промышленность выросла на 4\,8%\,\n\n-  п
 роизводство химической продукции увели
 чилось на 9\,5%\,\n\n- в стране действует 1 086 п
 редприятий\, что на 11% больше\, чем годом р
 анее.\n\nС 2020 года объём выпуска химическо
 й продукции в Казахстане вырос более чем
  на 30%\, что подтверждает устойчивое разв
 итие сектора и высокий интерес инвестор
 ов.\n\nМировой рынок также демонстрирует 
 уверенный рост: по прогнозам Market Research Futur
 e\, к 2030 году его объём превысит 750 млрд до
 лларов США. Всё это делает участие в Plastex 
 Qazaqstan особенно актуальным для компаний\, 
 которые стремятся укрепить свои позиции
 \, наладить новые производственные цепоч
 ки и выйти на международный уровень.\n\nПр
 остранство для сотрудничества\n\nВыставк
 а призвана стать не только экспозицией\, 
 но и площадкой для диалога между бизнесо
 м\, государственными структурами и научн
 ым сообществом. Здесь компании смогут пр
 одемонстрировать свои разработки и техн
 ологии\, встретиться с новыми партнёрами
  и клиентами\, а также обсудить перспекти
 вы внедрения инновационных и «зелёных» 
 решений.\n\nУчастие в выставке уже подтве
 рдили компании из Ирана и Китая\, что под
 чёркивает международный интерес к новом
 у проекту.\n\nПоддержка и организация\n\nОр
 ганизатором события выступает Казахст
 анская выставочная компания Iteca и её ме
 ждународный партнёр – Группа компаний I
 CA Events.\n\nОфициальную поддержку оказываю
 т Министерство промышленности и строите
 льства Республики Казахстан\, Акимат гор
 ода Алматы\, а также отраслевые союзы и а
 ссоциации\, включая Eurobak и World&amp\;Monitor.\n\nМе
 сто проведения: г. Алматы\, Выставочный ц
 ентр «Атакент»\nДата: 12–14 ноября 2025 года
 \n\nВход свободный по регистрации – получ
 ить билет можно здесь.\n\nПо вопросам учас
 тия обращайтесь:\n\nГаухар Бекманова\n\nРу
 ководитель проекта\n\nGaukhar.Bekmanova@iteca.events\n\n+
 7 705 888 8819\n\n&nbsp\;
ATTACH;FMTTYPE=image/jpeg:https://eurobak.kz/wp-content/uploads/2025/09/Pl
 astex.jpg
CATEGORIES:Non-EUROBAK event
END:VEVENT
END:VCALENDAR