BEGIN:VCALENDAR
VERSION:2.0
PRODID:-//wp-events-plugin.com//7.2.3.1//EN
BEGIN:VEVENT
UID:204@eurobak.kz
DTSTART:20250703T120000Z
DTEND:20250703T124000Z
DTSTAMP:20250627T081736Z
URL:https://eurobak.kz/events/non-eurobak-event-id-tagging-in-the-cis-trac
 eability-through-regulation/
SUMMARY:Non-EUROBAK event: ID Tagging in the CIS: Traceability Through Regu
 lation
DESCRIPTION:\n\n&nbsp\;\n\nJoin Bakhadir Akhmetjanov\, our Regional Directo
 r of Central Asia &amp\; Caucasus as he explores the regulatory framework 
 and practical implementation of ID tagging across CIS markets. Book your s
 pot for free.\nTime &amp\; Location\n\n\n03 Jul 2025\, 14:00 – 14:40 CES
 T (17.00 - 17.40 UTC+5)\nMicrosoft Teams Webinar\n\n\n\nThe webinar will b
 e held in English.\n\nAbout the event\n\n\n\nLaunched in 2016\, ID tagging
  regulations in CIS countries now span over 27 product categories\, with 1
 5 more expected to follow in the comings months. Join our Regional Directo
 r of Central Asia &amp\; Caucasus\, Bakhadir Akhmetjanov in this webinar t
 o learn more about the regulatory framework and the practical realities of
  implementing ID tagging across CIS markets.\nKey topics include:\n\n\n 	\
 nThe EAEU Agreement on ID Tagging\n\n 	\nThe Uneven Adoption Across EAEU M
 embers\n\n 	\nCurrent Practices and Future Plans in the CIS\n\n\n\n\n\n\nR
 egulatory framework and the realities of implementing ID tagging across CI
 S markets.\n\nRead more and register\n\n&nbsp\;\n\n&nbsp\;
CATEGORIES:Non-EUROBAK event
END:VEVENT
END:VCALENDAR