BEGIN:VCALENDAR
VERSION:2.0
PRODID:-//wp-events-plugin.com//7.2.3.1//EN
BEGIN:VEVENT
UID:188@eurobak.kz
DTSTART:20250523T043000Z
DTEND:20250523T094500Z
DTSTAMP:20250516T074759Z
URL:https://eurobak.kz/events/non-eurobak-event-%d0%b8%d0%bd%d0%bd%d0%be%d
 0%b2%d0%b0%d1%86%d0%b8%d0%b8-%d0%b8-%d0%b1%d0%b5%d0%b7%d0%be%d0%bf%d0%b0%d
 1%81%d0%bd%d0%be%d1%81%d1%82%d1%8c-%d0%bd%d0%be%d0%b2%d1%8b%d0%b5-%d0%b3%d
 0%be/
SUMMARY:Non-EUROBAK event: Инновации и безопасность: 
 новые горизонты с Microsoft&#8221\; Астана
DESCRIPTION:[embeddoc url="https://eurobak.kz/wp-content/uploads/2025/05/п
 риглашение-PDF.pdf"]
CATEGORIES:Non-EUROBAK event
END:VEVENT
END:VCALENDAR