BEGIN:VCALENDAR
VERSION:2.0
PRODID:-//wp-events-plugin.com//7.2.3.1//EN
BEGIN:VEVENT
UID:239@eurobak.kz
DTSTART:20251016T050000Z
DTEND:20251016T083500Z
DTSTAMP:20250926T124504Z
URL:https://eurobak.kz/events/mentorship-program/
SUMMARY:Mentorship Program
DESCRIPTION:Уважаемые представители компаний\
 , входящих в ЕВРОБАК\,\n\n\n\nЕВРОБАК пригла
 шает вас принять участие в вебинар: «Мен
 торская программа»\n\n\nДата: 16 октября( че
 тверг)\n\nВремя: 10:00–13:35\nФормат: Онлайн\n\nЯ
 зык: Русский\n\nВас ждут:\n👩‍🏫 Междунаро
 дные коучи – Елена Лазарева и Марина Хащ
 ук\n🎯 Как стать ментором и выбрать менто
 ра\n🤝 Менторинг vs. коучинг\n💡 Сильные во
 просы и мышление результатом\n\n🎯 Цель в
 стречи: познакомить с программой ментор
 ства и обсудить ключевые компетенции\, п
 олезные для менторов и менти.\n\nНе упусти
 те возможность прокачать навыки и узнат
 ь\, как менторинг может изменить карьеру 
 и бизнес!\n\nДля подтверждения вашего уча
 стия\, пожалуйста\, пройдите онлайн-реги
 страцию не позднее 15 октября.\n\n&nbsp\;\n\nБуд
 ем рады видеть вас на вебинаре!\n\n\n[embeddoc ur
 l="https://eurobak.kz/wp-content/uploads/2025/09/Agenda.pdf"]\n\n\n\n
CATEGORIES:Networking
END:VEVENT
END:VCALENDAR