BEGIN:VCALENDAR
VERSION:2.0
PRODID:-//wp-events-plugin.com//7.2.3.1//EN
BEGIN:VEVENT
UID:166@eurobak.kz
DTSTART:20250423T110000Z
DTEND:20250423T120000Z
DTSTAMP:20250416T074826Z
URL:https://eurobak.kz/events/meeting-with-the-ministry-of-transport-of-th
 e-republic-of-kazakhstan-and-vice-minister-mr-kaliakparov-m-k/
SUMMARY:EUROBAK meeting with the Ministry of Transport of the Republic of 
 Kazakhstan\, Vice Minister Mr. Kaliakparov M. K.
DESCRIPTION:Dear EUROBAK Executives\,\n\nWe are pleased to invite you to a 
 meeting with the Ministry of Transport of the Republic of Kazakhstan\, Vic
 e Minister Mr. Kaliakparov M. K.\nDate: 23 April\nTime: 16:00 - 17.00\nFor
 mat: Online\nLanguage: Russian (No translation in English is available. Pl
 ease arrange individually)\nDuring the meeting\, we will refer to questio
 ns we previously collected for the Ministry. Representatives of relevant d
 epartments will be present to address issues in detail.\n\n 	Gray imports\
 nLocomotive distribution\nConventional restrictions\nRailway infrastructur
 e\nCargo re-coupling after January 1\, 2025 (A resolution was adopted to a
 pprove the authorization for cargo re-coupling)\nDelivery times and costs 
 from Europe\nUpgrading the isothermal wagon fleet\nStation infrastructure\
 n\nPLEASE NOTE: By registering for the event\, participants consent to the
  processing and use of their personal data (full name\, position\, company
 ) for submission to government authorities if necessary and upon their req
 uest.\n\nWe look forward to seeing you at the meeting!\n\nTo confirm your 
 participation\, please complete the online registration by 22 April\n\n***
 ************************\n\nУважаемые представители 
 компаний\, входящих в ЕВРОБАК\,\n\nМы рады 
 пригласить Вас на встречу с Министерств
 ом Транспорта Республики Казахстан\, Виц
 е-Министром г-м Калиакпаровым М. К.\n\nДата
 : 23 Апреля\nВремя: 16.00 - 17.00\nФормат: Онлайн\n
 Язык: Русский (перевод на английский не д
 оступен)\n\nВ ходе встречи мы обратимся к 
 вопросам\, которые ранее собрали для Мин
 истерства. Представители профильных деп
 артаментов будут присутствовать для дет
 альной проработки вопросов.\n\n 	Серый имп
 орт\n 	Распределение тепловозов\n 	Конвен
 ционные запреты\n 	Железнодорожная инфра
 структура\n 	Перецепка грузов после 1 янв
 аря 2025 года (Было принято постановление 
 об удовлетворении разрешения на перецеп
 ку грузов)\n 	Увеличение сроков и стоимос
 ти доставки сырья и материалов из Европы
 \n 	Обновление изотермического парка ваг
 онов\n 	Станционная инфраструктура\n\nПОЖ
 АЛУЙСТА\, ОБРАТИТЕ ВНИМАНИЕ\, Регистриру
 ясь на мероприятие\, участники дают согл
 асие на обработку и использование своих 
 персональных данных (ФИО\, должность\, на
 именование организации) для предоставле
 ния их в государственные органы при необ
 ходимости и по их запросу.\n\nБудем рады в
 идеть Вас на встрече!\n\nДля подтверждени
 я участия\, пожалуйста\, пройдите онлайн-
 регистрацию до 22 апреля.
CATEGORIES:Government Relations
END:VEVENT
END:VCALENDAR