BEGIN:VCALENDAR
VERSION:2.0
PRODID:-//wp-events-plugin.com//7.2.3.1//EN
BEGIN:VEVENT
UID:102@eurobak.kz
DTSTART:20240523T110000Z
DTEND:20240523T120000Z
DTSTAMP:20240513T034452Z
URL:https://eurobak.kz/events/meeting-with-the-ministry-of-labor-and-socia
 l-protection-of-population-of-the-republic-of-kazakhstan/
SUMMARY:Meeting with the Ministry of Labor and Social Protection of Populat
 ion of the Republic of Kazakhstan
DESCRIPTION:Dear EUROBAK Members\,\n\nEUROBAK is planning a meeting with th
 e Ministry of Labor and Social Protection of Population of the Republic of
  Kazakhstan\, with the First vice-minister\, Mr. Akmadi Sarbasov. Also the
  representative person from the Committee of Migration service of the Mini
 stry of Internal Affairs of the Republic of Kazakhstan will be invited to 
 attend.\n\nMain topics for discussion:\n\n• Current issues in the field 
 of labor and migration legislation\n• Foreign labor force\n• The const
 ruction industry\, occupations carrying risks to life\, and the possibilit
 y of regulating qualifications at the legislative level\n\nDate:      
     23 May (Thurday)\, 2024\nTime:         16.00-17.00\nFormat:  
    Online\nLanguage: Russian\n\nTo confirm your participation\, please k
 indly proceed with online registration by May 21.\n\n*** *** ***\n\nУва
 жаемые представители компаний\, входящи
 х в ЕВРОБАК\,\n\nЕВРОБАК планирует встречу
  с Министерством Труда и Социальной Защи
 ты населения Республики Казахстан\, с Пе
 рвым Вице-Министром\, г-м Акмади Сарбасов
 ым. Также будет приглашен Представитель 
 Комитета миграционной службы МВД Респуб
 лики Казахстан.\n\nОсновные темы обсужден
 ия:\n\n• Актуальные вопросы в сфере трудо
 вого и миграционного законодательства\n
 • Иностранная Рабочая Сила\n• Строитель
 ная отрасль\, профессии несущие риски дл
 я жизни\, возможность регулирования квал
 ификации на законодательном уровне\n\nДа
 та:        23 Мая (Четверг)\, 2024\nВремя:     16.
 00-17.00\nФормат:  Oнлайн\nЯзык:      Русский\n\
 nДля подтверждения своего участия\, пожа
 луйста\, пройдите онлайн-регистрацию до 2
 1 мая.
CATEGORIES:Committies
END:VEVENT
END:VCALENDAR