BEGIN:VCALENDAR
VERSION:2.0
PRODID:-//wp-events-plugin.com//7.2.3.1//EN
BEGIN:VEVENT
UID:108@eurobak.kz
DTSTART:20241113T100000Z
DTEND:20241113T110000Z
DTSTAMP:20241106T105858Z
URL:https://eurobak.kz/events/meeting-with-the-ministry-of-finance-of-the-
 republic-of-kazakhstan-tbc/
SUMMARY:Meeting with the Vice-Minister of National Economy of the Republic 
 of Kazakhstan\, Mr. Kudaibergenov Bauyrzhan
DESCRIPTION:On September 26\,  EUROBAK\, in collaboration with USAID/FGI a
 nd the national company “KAZAKHINVEST\,” organized a roundtable in Ast
 ana focused on global best practices for attracting and supporting foreign
  direct investment. The event featured leading investment experts — Davi
 d O'Donovan from Ireland and Wojciech Tyborowski from Poland — who discu
 ssed with “KAZAKHINVEST” representatives the current mechanisms and st
 ructure for attracting foreign investment in Kazakhstan. Following the mee
 tings\, the experts developed recommendations to improve the investment sy
 stem\, which EUROBAK has forwarded for review.
CATEGORIES:Business,Committies
END:VEVENT
END:VCALENDAR