BEGIN:VCALENDAR
VERSION:2.0
PRODID:-//wp-events-plugin.com//7.2.3.1//EN
BEGIN:VEVENT
UID:106@eurobak.kz
DTSTART:20250228T060000Z
DTEND:20250228T070000Z
DTSTAMP:20250227T100721Z
URL:https://eurobak.kz/events/meeting-with-the-chairman-of-the-national-ba
 nk/
SUMMARY:Meeting with the Governor of the National Bank of the Republic of K
 azakhstan\, Mr. Timur Suleimenov
DESCRIPTION:During the upcoming meeting\, key aspects of Kazakhstan's econo
 mic and market situation will be discussed\, including macroeconomic facto
 rs\, inflation and base rate forecasts\, and an assessment of the current 
 state of the banking sector and credit availability for various business s
 egments. Additionally\, the agenda will cover the reasons behind the incre
 ased profitability of Kazakhstani banks\, opportunities to attract additio
 nal international banks to the local market\, and the effectiveness of imp
 lementing European standards for assessing the quality of banking assets a
 nd other regulatory norms.
CATEGORIES:Committies
END:VEVENT
END:VCALENDAR