BEGIN:VCALENDAR
VERSION:2.0
PRODID:-//wp-events-plugin.com//7.2.3.1//EN
BEGIN:VEVENT
UID:41@eurobak.kz
DTSTART:20231002T050000Z
DTEND:20231002T060000Z
DTSTAMP:20230904T095020Z
URL:https://eurobak.kz/events/meeting-with-ministry-of-foreign-affairs-of-
 rk/
SUMMARY:Meeting with Ministry of Foreign Affairs of RK
DESCRIPTION:Investment promotion strategy\, improvement of the legal regula
 tion on investments in RK\, international legal framework for investments\
 , and other topics will be discussed
CATEGORIES:Business
END:VEVENT
END:VCALENDAR