BEGIN:VCALENDAR
VERSION:2.0
PRODID:-//wp-events-plugin.com//7.2.3.1//EN
BEGIN:VEVENT
UID:34@eurobak.kz
DTSTART:20230619T053000Z
DTEND:20230619T070000Z
DTSTAMP:20230616T032047Z
URL:https://eurobak.kz/events/meeting-with-madina-abylkassymova-chairperso
 n-of-the-agency-of-the-republic-of-kazakhstan-for-regulation-and-developme
 nt-of-the-financial-market-june-12/
SUMMARY:Meeting with Madina Abylkassymova\, Chairperson of the Agency of RK
  for Regulation and Development of the Financial Market
DESCRIPTION:This event is free and open for top management of EUROBAK Membe
 r companies. 
CATEGORIES:Business
LOCATION:DoubleTree by Hilton Almaty\, 115 Dosmukhamedov Street\, Almaty\, 
 Kazakhstan\, Kazakhstan
X-APPLE-STRUCTURED-LOCATION;VALUE=URI;X-ADDRESS=115 Dosmukhamedov Street\, 
 Almaty\, Kazakhstan\, Kazakhstan;X-APPLE-RADIUS=100;X-TITLE=DoubleTree by 
 Hilton Almaty:geo:0,0
END:VEVENT
END:VCALENDAR