BEGIN:VCALENDAR
VERSION:2.0
PRODID:-//wp-events-plugin.com//7.2.3.1//EN
BEGIN:VEVENT
UID:55@eurobak.kz
DTSTART:20231031T081500Z
DTEND:20231031T093000Z
DTSTAMP:20231214T031742Z
URL:https://eurobak.kz/events/meeting-with-aifc-court/
SUMMARY:Meeting with AIFC Court
DESCRIPTION:Dedicated to the discussion of the developments at the AIFC Cou
 rt
CATEGORIES:Business
LOCATION:EY\, 4 Floor\, Esentai Tower\, 77/7\, Al Farabi str.\, Almaty\, Ka
 zakhstan\, Kazakhstan
X-APPLE-STRUCTURED-LOCATION;VALUE=URI;X-ADDRESS=4 Floor\, Esentai Tower\, 7
 7/7\, Al Farabi str.\, Almaty\, Kazakhstan\, Kazakhstan;X-APPLE-RADIUS=100
 ;X-TITLE=EY:geo:0,0
END:VEVENT
END:VCALENDAR