BEGIN:VCALENDAR
VERSION:2.0
PRODID:-//wp-events-plugin.com//7.2.3.1//EN
BEGIN:VEVENT
UID:97@eurobak.kz
DTSTART:20240506T060000Z
DTEND:20240506T073000Z
DTSTAMP:20240425T091727Z
URL:https://eurobak.kz/events/meeting-of-the-eurobak-board-of-directors/
SUMMARY:Meeting of the EUROBAK Board of Directors
DESCRIPTION:
CATEGORIES:Committies
END:VEVENT
END:VCALENDAR