BEGIN:VCALENDAR
VERSION:2.0
PRODID:-//wp-events-plugin.com//7.2.3.1//EN
BEGIN:VEVENT
UID:37@eurobak.kz
DTSTART:20230623T040000Z
DTEND:20230623T063000Z
DTSTAMP:20230605T075023Z
URL:https://eurobak.kz/events/marketing-pr-committee-anti-crisis-communica
 tions/
SUMMARY:Marketing &#038\; PR Committee: anti-crisis communications
DESCRIPTION:During the meeting\, we will discuss how to respond to various 
 situations\, analyze cases and exchange experiences.
CATEGORIES:Committies
LOCATION:Haileybury Almaty School\, 112 Al-Farabi ave.\, Almaty\, Kazakhsta
 n\, Kazakhstan
X-APPLE-STRUCTURED-LOCATION;VALUE=URI;X-ADDRESS=112 Al-Farabi ave.\, Almaty
 \, Kazakhstan\, Kazakhstan;X-APPLE-RADIUS=100;X-TITLE=Haileybury Almaty Sc
 hool:geo:0,0
END:VEVENT
END:VCALENDAR