BEGIN:VCALENDAR
VERSION:2.0
PRODID:-//wp-events-plugin.com//7.2.3.1//EN
BEGIN:VEVENT
UID:49@eurobak.kz
DTSTART:20230927T050000Z
DTEND:20230927T060000Z
DTSTAMP:20230921T065907Z
URL:https://eurobak.kz/events/marketing-pr-committee-ai-in-marketing/
SUMMARY:Marketing &#038\; PR Committee: AI in marketing
DESCRIPTION:We invite you to join a meeting of Marketing & PR Committee ded
 icated to the topic of using artificial intelligence in marketing.
CATEGORIES:Committies
END:VEVENT
END:VCALENDAR