BEGIN:VCALENDAR
VERSION:2.0
PRODID:-//wp-events-plugin.com//7.2.3.1//EN
BEGIN:VEVENT
UID:259@eurobak.kz
DTSTART:20251126T084500Z
DTEND:20251126T130000Z
DTSTAMP:20251120T133747Z
URL:https://eurobak.kz/events/launch-event-of-the-fao-phytosanitary-legisl
 ation-e-learning-toolkit-on-wednesday-26-november/
SUMMARY: Launch event of the “FAO phytosanitary legislation e-learning t
 oolkit” on Wednesday 26 November
DESCRIPTION:Jointly developed by FAO and COLEAD\, the comprehensive trainin
 g toolkit on plant health legislation aims to serve as a resource for legi
 slative reform and to build institutional capacity\, raise awareness and p
 olitical interest in plant health.\n\n20102025_FAO_COLEAD_Agenda.pdf
CATEGORIES:Non-EUROBAK event
END:VEVENT
END:VCALENDAR